BEGIN:VCALENDAR
VERSION:2.0
PRODID:-//One Love Animal Rescue &amp; Sanctuary - ECPv6.15.20//NONSGML v1.0//EN
CALSCALE:GREGORIAN
METHOD:PUBLISH
X-ORIGINAL-URL:https://oneloveanimals.org
X-WR-CALDESC:Events for One Love Animal Rescue &amp; Sanctuary
REFRESH-INTERVAL;VALUE=DURATION:PT1H
X-Robots-Tag:noindex
X-PUBLISHED-TTL:PT1H
BEGIN:VTIMEZONE
TZID:UTC
BEGIN:STANDARD
TZOFFSETFROM:+0000
TZOFFSETTO:+0000
TZNAME:UTC
DTSTART:20250101T000000
END:STANDARD
END:VTIMEZONE
BEGIN:VEVENT
DTSTART;TZID=UTC:20260329T120000
DTEND;TZID=UTC:20260329T160000
DTSTAMP:20260421T033046
CREATED:20260314T220421Z
LAST-MODIFIED:20260314T220421Z
UID:18939-1774785600-1774800000@oneloveanimals.org
SUMMARY:March 29th\, Petco Brea - Easter Adoption and Interaction Event
DESCRIPTION:Petco Brea is hosting a special Easter event where they are expecting an appearance from the Easer Bunny. \nWe will have adoptable cats available to meet and take home or make a donation to interact with them in the play tent just for the day. One Love will be there from 12:00pm-4:00pm. \nWe will have some special Easter gifts and giveaways as a thank you for stopping by this event. \n 
URL:https://oneloveanimals.org/event/march-29th-petco-brea-easter-adoption-and-interaction-event/
LOCATION:Petco-Brea\, 2500 Imperial Hwy Ste 114\, Brea\, CA\, 92821
END:VEVENT
END:VCALENDAR