BEGIN:VCALENDAR
VERSION:2.0
PRODID:-//One Love Animal Rescue &amp; Sanctuary - ECPv6.15.20//NONSGML v1.0//EN
CALSCALE:GREGORIAN
METHOD:PUBLISH
X-ORIGINAL-URL:https://oneloveanimals.org
X-WR-CALDESC:Events for One Love Animal Rescue &amp; Sanctuary
REFRESH-INTERVAL;VALUE=DURATION:PT1H
X-Robots-Tag:noindex
X-PUBLISHED-TTL:PT1H
BEGIN:VTIMEZONE
TZID:America/Los_Angeles
BEGIN:DAYLIGHT
TZOFFSETFROM:-0800
TZOFFSETTO:-0700
TZNAME:PDT
DTSTART:20250309T100000
END:DAYLIGHT
BEGIN:STANDARD
TZOFFSETFROM:-0700
TZOFFSETTO:-0800
TZNAME:PST
DTSTART:20251102T090000
END:STANDARD
BEGIN:DAYLIGHT
TZOFFSETFROM:-0800
TZOFFSETTO:-0700
TZNAME:PDT
DTSTART:20260308T100000
END:DAYLIGHT
BEGIN:STANDARD
TZOFFSETFROM:-0700
TZOFFSETTO:-0800
TZNAME:PST
DTSTART:20261101T090000
END:STANDARD
BEGIN:DAYLIGHT
TZOFFSETFROM:-0800
TZOFFSETTO:-0700
TZNAME:PDT
DTSTART:20270314T100000
END:DAYLIGHT
BEGIN:STANDARD
TZOFFSETFROM:-0700
TZOFFSETTO:-0800
TZNAME:PST
DTSTART:20271107T090000
END:STANDARD
END:VTIMEZONE
BEGIN:VEVENT
DTSTART;TZID=America/Los_Angeles:20260531T100000
DTEND;TZID=America/Los_Angeles:20260531T170000
DTSTAMP:20260421T063949
CREATED:20260411T003102Z
LAST-MODIFIED:20260412T231911Z
UID:19108-1780221600-1780246800@oneloveanimals.org
SUMMARY:May 31st\, Petco Brea - Cat Adoption Event
DESCRIPTION:Mark your calendar! \nWe’re hosting a cat and kitten adoption event at Petco Brea on Sunday\, May 31st from 10am-5pm! \nCome meet 25+ adoptable cats with a wide variety of ages\, sizes\, and personalities. From energetic and playful to calm and cuddly\, there’s truly someone for everyone. Our team will be there to answer questions\, help you find the right fit\, and guide you through the adoption process. If you’d like to meet any from our website let us know and we can try and have them attend the event! \nEven if you’re not ready to adopt\, you can help by making a donation ! We also collect cat food\, litter\, and toy donations aswell. \nSee you there!
URL:https://oneloveanimals.org/event/may-31st-petco-brea-cat-adoption-event/
LOCATION:Petco-Brea\, 2500 Imperial Hwy Ste 114\, Brea\, CA\, 92821
END:VEVENT
END:VCALENDAR