BEGIN:VCALENDAR
VERSION:2.0
PRODID:-//One Love Animal Rescue &amp; Sanctuary - ECPv6.15.20//NONSGML v1.0//EN
CALSCALE:GREGORIAN
METHOD:PUBLISH
X-WR-CALNAME:One Love Animal Rescue &amp; Sanctuary
X-ORIGINAL-URL:https://oneloveanimals.org
X-WR-CALDESC:Events for One Love Animal Rescue &amp; Sanctuary
REFRESH-INTERVAL;VALUE=DURATION:PT1H
X-Robots-Tag:noindex
X-PUBLISHED-TTL:PT1H
BEGIN:VTIMEZONE
TZID:UTC
BEGIN:STANDARD
TZOFFSETFROM:+0000
TZOFFSETTO:+0000
TZNAME:UTC
DTSTART:20230101T000000
END:STANDARD
END:VTIMEZONE
BEGIN:VEVENT
DTSTART;TZID=UTC:20251207T110000
DTEND;TZID=UTC:20251207T160000
DTSTAMP:20260421T131512
CREATED:20251203T070509Z
LAST-MODIFIED:20251203T070509Z
UID:18530-1765105200-1765123200@oneloveanimals.org
SUMMARY:Decemeber 7th\, Centinela Adoption Event
DESCRIPTION:Come visit One Love Animal Rescue at Centinela in Tustin December 7th\, where we will have over 20 wonderful cats who are ready to find their forever families! We’ll have cats of all ages\, sizes\, and personalities — from playful kittens to gentle seniors\, silly goofballs to snuggly lap-lovers. Every one of them has their own special story and is just waiting for the perfect match. \nLooking to meet a specific cat from our website? Just let us know—we’re happy to try and bring any listed kitty you’re interested in so you can meet them in person!
URL:https://oneloveanimals.org/event/dec-7th-centinela-adoption/
LOCATION:Centinela-Tustin\, 1071 Old Irvine Blvd\, Tustin\, CA\, 92780\, United States
END:VEVENT
BEGIN:VEVENT
DTSTART;TZID=UTC:20251206T090000
DTEND;TZID=UTC:20251206T140000
DTSTAMP:20260421T131512
CREATED:20251015T003358Z
LAST-MODIFIED:20251015T003450Z
UID:18322-1765011600-1765029600@oneloveanimals.org
SUMMARY:December 6th\, Fullerton Free Certified Farmers' Market
DESCRIPTION:On December 6th\, One Love Animal Rescue will be at the Fullerton Free Certified Farmers Market with some of our adorable adoptable friends! Stop by our booth to meet and interact with cats\, a tortoise\, and even a few friendly goats. It’s the perfect chance to take fun photos\, learn more about our rescue and sanctuary animals\, and find out how you can support or adopt. Bring the whole family and enjoy a day of fresh produce\, local goods\, and plenty of animal love—we can’t wait to see you there!
URL:https://oneloveanimals.org/event/dec-6th-farmers-market-2/
LOCATION:Fullerton Free\, 2801 N. Brea Blvd\, Fullerton\, 92835\, United States
END:VEVENT
BEGIN:VEVENT
DTSTART;TZID=UTC:20251130T100000
DTEND;TZID=UTC:20251130T170000
DTSTAMP:20260421T131512
CREATED:20251015T071308Z
LAST-MODIFIED:20251015T071308Z
UID:18330-1764496800-1764522000@oneloveanimals.org
SUMMARY:November 30th\, Petco-Brea Adoption Event
DESCRIPTION:Come visit One Love Animal Rescue at Petco in Brea Sunday\, November 30th\, 2025. We will have over 20 kittens and adult cats ready to find their furever home. Come meet these amazing cats in person and see if one would fit with your family. \nReach out to us before hand if there is a certain cat/kitten you would like to meet from our website so we can try and bring them 🙂
URL:https://oneloveanimals.org/event/nov-30th-petco-adoption/
LOCATION:Petco-Brea\, 2500 Imperial Hwy Ste 114\, Brea\, CA\, 92821
END:VEVENT
BEGIN:VEVENT
DTSTART;TZID=UTC:20251123T110000
DTEND;TZID=UTC:20251123T160000
DTSTAMP:20260421T131512
CREATED:20251119T030554Z
LAST-MODIFIED:20251119T031308Z
UID:18350-1763895600-1763913600@oneloveanimals.org
SUMMARY:November 23rd\, Centinela Adoption Event
DESCRIPTION:Come visit One Love Animal Rescue at Centinela in Tustin November 23rd\, where we will have over 20 wonderful cats who are ready to find their forever families! We’ll have cats of all ages\, sizes\, and personalities — from playful kittens to gentle seniors\, silly goofballs to snuggly lap-lovers. Every one of them has their own special story and is just waiting for the perfect match. \nLooking to meet a specific cat from our website? Just let us know—we’re happy to try and bring any listed kitty you’re interested in so you can meet them in person!
URL:https://oneloveanimals.org/event/nov-23rd-centinela-adoption/
LOCATION:Centinela-Tustin\, 1071 Old Irvine Blvd\, Tustin\, CA\, 92780\, United States
END:VEVENT
BEGIN:VEVENT
DTSTART;TZID=UTC:20251116T100000
DTEND;TZID=UTC:20251116T170000
DTSTAMP:20260421T131512
CREATED:20251015T071232Z
LAST-MODIFIED:20251015T071232Z
UID:18328-1763287200-1763312400@oneloveanimals.org
SUMMARY:November 16th\, Petco-Brea Adoption Event
DESCRIPTION:Come visit One Love Animal Rescue at Petco in Brea Sunday\, November 16th\, 2025. We will have over 20 kittens and adult cats ready to find their furever home. Come meet these amazing cats in person and see if one would fit with your family. \nReach out to us before hand if there is a certain cat/kitten you would like to meet from our website so we can try and bring them 🙂
URL:https://oneloveanimals.org/event/nov-16th-petco-adoption/
LOCATION:Petco-Brea\, 2500 Imperial Hwy Ste 114\, Brea\, CA\, 92821
END:VEVENT
BEGIN:VEVENT
DTSTART;TZID=UTC:20251102T100000
DTEND;TZID=UTC:20251102T170000
DTSTAMP:20260421T131512
CREATED:20251015T071152Z
LAST-MODIFIED:20251015T071152Z
UID:18326-1762077600-1762102800@oneloveanimals.org
SUMMARY:November 2nd\, Petco-Brea Adoption Event
DESCRIPTION:Come visit One Love Animal Rescue at Petco in Brea Sunday\, November 2nd\, 2025. We will have over 20 kittens and adult cats ready to find their furever home. Come meet these amazing cats in person and see if one would fit with your family. \nReach out to us before hand if there is a certain cat/kitten you would like to meet from our website so we can try and bring them 🙂
URL:https://oneloveanimals.org/event/nov-2nd-petco-adoption/
LOCATION:Petco-Brea\, 2500 Imperial Hwy Ste 114\, Brea\, CA\, 92821
END:VEVENT
BEGIN:VEVENT
DTSTART;TZID=UTC:20251025T090000
DTEND;TZID=UTC:20251025T140000
DTSTAMP:20260421T131512
CREATED:20251015T003321Z
LAST-MODIFIED:20251015T003321Z
UID:18320-1761382800-1761400800@oneloveanimals.org
SUMMARY:October 25th\, Fullerton Free Certified Farmers' Market
DESCRIPTION:October 25th\, One Love Animal Rescue will be at the Fullerton Free Certified Farmers Market with some of our adorable adoptable friends! Stop by our booth to meet and interact with cats\, a tortoise\, and even a few friendly goats. It’s the perfect chance to take fun photos\, learn more about our rescue and sanctuary animals\, and find out how you can support or adopt. Bring the whole family and enjoy a day of fresh produce\, local goods\, and plenty of animal love—we can’t wait to see you there!
URL:https://oneloveanimals.org/event/oct-25th-farmers-market/
LOCATION:Fullerton Free\, 2801 N. Brea Blvd\, Fullerton\, 92835\, United States
END:VEVENT
BEGIN:VEVENT
DTSTART;TZID=UTC:20251019T100000
DTEND;TZID=UTC:20251019T170000
DTSTAMP:20260421T131512
CREATED:20250916T071728Z
LAST-MODIFIED:20250916T071728Z
UID:18200-1760868000-1760893200@oneloveanimals.org
SUMMARY:October 19th\, Petco-Brea Adoption Event
DESCRIPTION:Come visit One Love Animal Rescue at Petco in Brea Sunday\, October 19th\, 2025. We will have over 20 kittens and adult cats ready to find their furever home. Come meet these amazing cats in person and see if one would fit with your family. \nReach out to us before hand if there is a certain cat/kitten you would like to meet from our website so we can try and bring them 🙂
URL:https://oneloveanimals.org/event/oct-19th-petco-adoption/
LOCATION:Petco-Brea\, 2500 Imperial Hwy Ste 114\, Brea\, CA\, 92821
END:VEVENT
BEGIN:VEVENT
DTSTART;TZID=UTC:20251005T100000
DTEND;TZID=UTC:20251005T170000
DTSTAMP:20260421T131512
CREATED:20250916T071010Z
LAST-MODIFIED:20250916T071010Z
UID:18195-1759658400-1759683600@oneloveanimals.org
SUMMARY:October 5th\, Petco-Brea Adoption Event
DESCRIPTION:Come visit One Love Animal Rescue at Petco in Brea Sunday\, October 5th\, 2025. We will have over 20 kittens and adult cats ready to find their furever home. Come meet these amazing cats in person and see if one would fit with your family. \nReach out to us before hand if there is a certain cat/kitten you would like to meet from our website so we can try and bring them 🙂
URL:https://oneloveanimals.org/event/oct-5th-petco-adoption/
LOCATION:Petco-Brea\, 2500 Imperial Hwy Ste 114\, Brea\, CA\, 92821
END:VEVENT
BEGIN:VEVENT
DTSTART;TZID=UTC:20251004T090000
DTEND;TZID=UTC:20251004T150000
DTSTAMP:20260421T131512
CREATED:20250916T072142Z
LAST-MODIFIED:20250916T072201Z
UID:18203-1759568400-1759590000@oneloveanimals.org
SUMMARY:October 4th - Emma Zen Foundation Bark in the Park Event
DESCRIPTION:On Saturday\, October 4th\, 2025\, One Love Animal Rescue is excited to join the Emma Zen Foundation’s Bark in the Park event! We’ll be bringing along some of our rescue favorites—cats\, tortoise’s\, birds and goats—for everyone to meet\, interact with\, and snap photos alongside. This fun-filled day is all about celebrating animals while supporting a great cause\, and we’re proud to be part of it. Come visit our booth\, say hello to the animals\, and learn more about how you can help make a difference for rescue pets in need!
URL:https://oneloveanimals.org/event/october-4th-emma-zen-foundation-bark-in-the-park-event/
LOCATION:Yorba Regional Park\, 7600 E La Palma\, Anaheim\, CA\, 92807\, United States
END:VEVENT
BEGIN:VEVENT
DTSTART;TZID=UTC:20250921T100000
DTEND;TZID=UTC:20250921T170000
DTSTAMP:20260421T131512
CREATED:20250916T070901Z
LAST-MODIFIED:20250916T071038Z
UID:18193-1758448800-1758474000@oneloveanimals.org
SUMMARY:September 21st\, Petco-Brea Adoption Event
DESCRIPTION:Come visit One Love Animal Rescue at Petco in Brea Sunday\, September 21st\, 2025. We will have over 20 kittens and adult cats ready to find their furever home. Come meet these amazing cats in person and see if one would fit with your family. \nReach out to us before hand if there is a certain cat/kitten you would like to meet from our website so we can try and bring them 🙂
URL:https://oneloveanimals.org/event/sept-21st-petco-adoption/
LOCATION:Petco-Brea\, 2500 Imperial Hwy Ste 114\, Brea\, CA\, 92821
END:VEVENT
BEGIN:VEVENT
DTSTART;TZID=UTC:20250920T090000
DTEND;TZID=UTC:20250920T140000
DTSTAMP:20260421T131512
CREATED:20250916T071535Z
LAST-MODIFIED:20250916T071535Z
UID:18192-1758358800-1758376800@oneloveanimals.org
SUMMARY:September 20th\, Fullerton Free Certified Farmers' Market
DESCRIPTION:This Saturday\, September 20th\, One Love Animal Rescue will be at the Fullerton Free Certified Farmers Market with some of our adorable adoptable friends! Stop by our booth to meet and interact with cats\, a tortoise\, and even a few friendly goats. It’s the perfect chance to take fun photos\, learn more about our rescue and sanctuary animals\, and find out how you can support or adopt. Bring the whole family and enjoy a day of fresh produce\, local goods\, and plenty of animal love—we can’t wait to see you there!
URL:https://oneloveanimals.org/event/sept-20th-farmers-market/
LOCATION:Fullerton Free\, 2801 N. Brea Blvd\, Fullerton\, 92835\, United States
END:VEVENT
BEGIN:VEVENT
DTSTART;TZID=UTC:20250802T120000
DTEND;TZID=UTC:20250802T160000
DTSTAMP:20260421T131512
CREATED:20250715T062416Z
LAST-MODIFIED:20250715T062416Z
UID:18184-1754136000-1754150400@oneloveanimals.org
SUMMARY:August 2nd\, Petco-Cerritos Adoption Event
DESCRIPTION:Come visit One Love Animal Rescue at Petco in Cerritos Sunday\, August 2nd\, 2025. We will have over 20 kittens and adult cats ready to find their furever home. Come meet these amazing cats in person and see if one would fit with your family. \nReach out to us before hand if there is a certain cat/kitten you would like to meet from our website so we can try and bring them 🙂
URL:https://oneloveanimals.org/event/august-2nd-petco-adoption/
LOCATION:Petco-Cerritos\, 12601 Towne Center Drive\, Cerritos\, CA\, 90703\, United States
END:VEVENT
BEGIN:VEVENT
DTSTART;TZID=UTC:20250727T100000
DTEND;TZID=UTC:20250727T170000
DTSTAMP:20260421T131512
CREATED:20250715T062143Z
LAST-MODIFIED:20250715T062143Z
UID:18181-1753610400-1753635600@oneloveanimals.org
SUMMARY:July 27th\, Petco-Brea Adoption Event
DESCRIPTION:Come visit One Love Animal Rescue at Petco in Brea Sunday\, July 27th\, 2025. We will have over 20 kittens and adult cats ready to find their furever home. Come meet these amazing cats in person and see if one would fit with your family. \nReach out to us before hand if there is a certain cat/kitten you would like to meet from our website so we can try and bring them 🙂
URL:https://oneloveanimals.org/event/july-27th-petco-adoption/
LOCATION:Petco-Brea\, 2500 Imperial Hwy Ste 114\, Brea\, CA\, 92821
END:VEVENT
BEGIN:VEVENT
DTSTART;TZID=UTC:20250726T100000
DTEND;TZID=UTC:20250726T140000
DTSTAMP:20260421T131512
CREATED:20250715T063015Z
LAST-MODIFIED:20250715T063015Z
UID:18183-1753524000-1753538400@oneloveanimals.org
SUMMARY:July 26th\, One Love Adoption/Education Event - Tri City Park
DESCRIPTION:Come visit One Love Animal Rescue at Tri-City Park in Placentia Sunday\, July 26th\, 2025. We will have over 20 kittens and adult cats ready to find their furever home. Bird \, tortoise and even goat ambassadors to interact with and more! \nReach out to us before hand if there is a certain cat/kitten you would like to meet from our website to possible adopt so we can try and bring them 🙂
URL:https://oneloveanimals.org/event/july-26th-tri-city-event/
LOCATION:Tri-City Park\, 15362 Golden Ave\, Placentia\, CA\, 92870\, United States
END:VEVENT
BEGIN:VEVENT
DTSTART;TZID=UTC:20250713T100000
DTEND;TZID=UTC:20250713T170000
DTSTAMP:20260421T131512
CREATED:20250530T131327Z
LAST-MODIFIED:20250530T131327Z
UID:17453-1752400800-1752426000@oneloveanimals.org
SUMMARY:July 13th\, Petco-Brea Adoption Event
DESCRIPTION:Come visit One Love Animal Rescue at Petco in Brea Sunday\, July 13th\, 2025. We will have over 20 kittens and adult cats ready to find their furever home. Come meet these amazing cats in person and see if one would fit with your family. \nReach out to us before hand if there is a certain cat/kitten you would like to meet from our website so we can try and bring them 🙂
URL:https://oneloveanimals.org/event/july-13th-petco-adoption/
LOCATION:Petco-Brea\, 2500 Imperial Hwy Ste 114\, Brea\, CA\, 92821
END:VEVENT
BEGIN:VEVENT
DTSTART;TZID=UTC:20250629T100000
DTEND;TZID=UTC:20250629T170000
DTSTAMP:20260421T131512
CREATED:20250530T131226Z
LAST-MODIFIED:20250530T131226Z
UID:17451-1751191200-1751216400@oneloveanimals.org
SUMMARY:June 29th\, Petco-Brea Adoption Event
DESCRIPTION:Come visit One Love Animal Rescue at Petco in Brea Sunday\, June 29th\, 2025. We will have over 20 kittens and adult cats ready to find their furever home. Come meet these amazing cats in person and see if one would fit with your family. \nReach out to us before hand if there is a certain cat/kitten you would like to meet from our website so we can try and bring them 🙂
URL:https://oneloveanimals.org/event/jun-29th-petco-adoption/
LOCATION:Petco-Brea\, 2500 Imperial Hwy Ste 114\, Brea\, CA\, 92821
END:VEVENT
BEGIN:VEVENT
DTSTART;TZID=UTC:20250628T120000
DTEND;TZID=UTC:20250628T150000
DTSTAMP:20260421T131512
CREATED:20250530T132527Z
LAST-MODIFIED:20250530T132527Z
UID:17460-1751112000-1751122800@oneloveanimals.org
SUMMARY:June 28th\, Paws in the Park Event
DESCRIPTION:Paws in the Park with One Love Animal Rescue! \nJoin us for a day of whiskers\, wings\, and sunshine at Paws in the Park on Saturday\, June 28th\, from 12:00 PM to 3:00 PM at Little Cottonwood Park —📍 4000 Farquhar Ave\, Los Alamitos\, CA 90720 \nWe’ll be out with some of our adorable adoptable cats and kittens who are ready to pounce into their forever homes! \nBut that’s not all — you’ll also get to meet a few of our incredible animal ambassadors\, including our friendly parrots and gentle tortoise\, perfect for interactive moments and photo ops for animal lovers of all ages. \nIt’s a purr-fect way to spend your afternoon — whether you’re looking to adopt or just want to enjoy a fun\, animal-filled outing. \n🐾 Adopt. Connect. Celebrate. We hope to see you there!
URL:https://oneloveanimals.org/event/june-28th-paws-in-the-park-event/
LOCATION:Little Cottonwood Park\, 4000 Farquhar Ave\, Los Alamitos\, CA\, 90720\, United States
END:VEVENT
BEGIN:VEVENT
DTSTART;TZID=UTC:20250608T140000
DTEND;TZID=UTC:20250608T180000
DTSTAMP:20260421T131512
CREATED:20250530T132139Z
LAST-MODIFIED:20250530T132139Z
UID:17457-1749391200-1749405600@oneloveanimals.org
SUMMARY:June 8th\, Everywhere Beer Event
DESCRIPTION:Purrs & Pints: Cat Adoption Event at Everywhere Beer! \nJoin One Love Animal Rescue for a cat-tastic afternoon at Everywhere Beer on Sunday\, June 8th from 2–6 PM — located at 1501 W Orangewood Ave\, Ste. 101\, Orange\, CA 92868. \nWhether you’re searching for your new feline best friend or just want some kitty cuddles with a cold brew\, this event is for you! We’ll have a variety of adorable kittens and lovable adult cats ready to find their forever homes. \nThis is a family-friendly event for all ages\, so bring the kids\, bring your friends\, and come enjoy an afternoon of paws\, pints\, and pure joy. \nIf there’s a particular cat or kitten you’d like to meet from our website\, feel free to reach out beforehand — we’ll do our best to bring them along! \n🐾 Adopt. Relax. Repeat. We can’t wait to see you there!
URL:https://oneloveanimals.org/event/june-8th-everywhere-beer-event/
LOCATION:Everywhere Beer\, 1501 W Orangewood Rd Ste. 101\, Orange\, 92868\, United States
END:VEVENT
BEGIN:VEVENT
DTSTART;TZID=UTC:20250607T110000
DTEND;TZID=UTC:20250607T150000
DTSTAMP:20260421T131512
CREATED:20250530T131646Z
LAST-MODIFIED:20250530T131646Z
UID:17455-1749294000-1749308400@oneloveanimals.org
SUMMARY:June 7th\, Creative Babe Market Event
DESCRIPTION:Come see us on Saturday\, June 7th\, 2025 at the Mess Hall Market in Tustin during the Creative Babe Market for a day full of furry fun and heartwarming connections! \nWe’ll have a wonderful mix of adorable kittens and loving adult cats looking for their furever homes — plus a few tiny kittens just there to cuddle\, play\, and steal your heart. \nYou’ll also get the chance to meet some of our amazing animal ambassadors\, including our colorful birds\, charming tortoise\, and maybe even a few surprise guests! It’s a great opportunity to learn more about who we rescue and how we care for them. \nIf there’s a specific cat or kitten you’re hoping to meet\, please reach out to us ahead of time through our website. We’ll do our best to bring them along! \n🐾 Adopt. Learn. Love. We can’t wait to see you there!
URL:https://oneloveanimals.org/event/june-7th-creative-babe-market-event/
LOCATION:Mess Hall Market\, 1705 Flight Way\, Tustin\, CA\, 92787\, United States
END:VEVENT
BEGIN:VEVENT
DTSTART;TZID=UTC:20250601T100000
DTEND;TZID=UTC:20250601T140000
DTSTAMP:20260421T131512
CREATED:20250530T131112Z
LAST-MODIFIED:20250530T131112Z
UID:17449-1748772000-1748786400@oneloveanimals.org
SUMMARY:June 1st\, Petco-Brea Adoption Event
DESCRIPTION:Come visit One Love Animal Rescue at Petco in Brea Sunday\, June 1st\, 2025. We will have over 15 kittens and adult cats ready to find their furever home. Come meet these amazing cats in person and see if one would fit with your family. \nReach out to us before hand if there is a certain cat/kitten you would like to meet from our website so we can try and bring them 🙂
URL:https://oneloveanimals.org/event/jun-1st-petco-adoption/
LOCATION:Petco-Brea\, 2500 Imperial Hwy Ste 114\, Brea\, CA\, 92821
END:VEVENT
BEGIN:VEVENT
DTSTART;TZID=UTC:20250518T100000
DTEND;TZID=UTC:20250518T170000
DTSTAMP:20260421T131512
CREATED:20250512T122653Z
LAST-MODIFIED:20250512T122745Z
UID:17024-1747562400-1747587600@oneloveanimals.org
SUMMARY:May 18th\, Petco-Brea Adoption Event
DESCRIPTION:Come visit One Love Animal Rescue at Petco in Brea Sunday\, May 18th\, 2025. We will have over 15 kittens and adult cats ready to find their furever home. Come meet these amazing cats in person and see if one would fit with your family. \nReach out to us before hand if there is a certain cat/kitten you would like to meet from our website so we can try and bring them 🙂
URL:https://oneloveanimals.org/event/may-18th-petco-adoption-event/
LOCATION:Petco-Brea\, 2500 Imperial Hwy Ste 114\, Brea\, CA\, 92821
END:VEVENT
BEGIN:VEVENT
DTSTART;TZID=UTC:20250504T100000
DTEND;TZID=UTC:20250504T170000
DTSTAMP:20260421T131512
CREATED:20250330T074058Z
LAST-MODIFIED:20250330T074058Z
UID:16812-1746352800-1746378000@oneloveanimals.org
SUMMARY:May 4th\, Petco-Brea Adoption Event
DESCRIPTION:Come visit One Love Animal Rescue at Petco in Brea Sunday\, May 4th\, 2025. We will have over 20 kittens and adult cats ready to find their furever home. Come meet these amazing cats in person and see if one would fit with your family. \nReach out to us before hand if there is a certain cat/kitten you would like to meet from our website so we can try and bring them 🙂
URL:https://oneloveanimals.org/event/may-4th-petco-adoption-event/
LOCATION:Petco-Brea\, 2500 Imperial Hwy Ste 114\, Brea\, CA\, 92821
END:VEVENT
BEGIN:VEVENT
DTSTART;TZID=UTC:20250406T100000
DTEND;TZID=UTC:20250406T170000
DTSTAMP:20260421T131512
CREATED:20250330T073900Z
LAST-MODIFIED:20250330T073900Z
UID:16808-1743933600-1743958800@oneloveanimals.org
SUMMARY:Apr 6th\, Petco-Brea Adoption Event
DESCRIPTION:Come visit One Love Animal Rescue at Petco in Brea Sunday\, April 6th\, 2025. We will have over 20 kittens and adult cats ready to find their furever home. Come meet these amazing cats in person and see if one would fit with your family. \nReach out to us before hand if there is a certain cat/kitten you would like to meet from our website so we can try and bring them 🙂
URL:https://oneloveanimals.org/event/apr-6th-petco-adoption-event/
LOCATION:Petco-Brea\, 2500 Imperial Hwy Ste 114\, Brea\, CA\, 92821
END:VEVENT
BEGIN:VEVENT
DTSTART;TZID=UTC:20250405T110000
DTEND;TZID=UTC:20250405T150000
DTSTAMP:20260421T131512
CREATED:20250330T073738Z
LAST-MODIFIED:20251203T072707Z
UID:16805-1743850800-1743865200@oneloveanimals.org
SUMMARY:Apr 5th\, Creative Babe Market Event
DESCRIPTION:Come visit One Love Animal Rescue at the Creative Babe Market at the Mess Hall Market in Tustin on Saturday\, April 5th\, 2025. We will have kittens and adult cats ready to find their furever home as well have some smaller kittens to play and interact with. \nCome meet and learn about some of our amazing ambassadors such as birds\, bunnies\, tortoise and more! \nReach out to us before hand if there is a certain cat/kitten you would like to meet from our website so we can try and bring them 🙂
URL:https://oneloveanimals.org/event/apr-5th-creative-babe-market-event/
LOCATION:Mess Hall Market\, 1705 Flight Way\, Tustin\, CA\, 92787\, United States
END:VEVENT
BEGIN:VEVENT
DTSTART;TZID=UTC:20250223T100000
DTEND;TZID=UTC:20250223T170000
DTSTAMP:20260421T131512
CREATED:20250204T120845Z
LAST-MODIFIED:20250204T120845Z
UID:16801-1740304800-1740330000@oneloveanimals.org
SUMMARY:Feb 23rd\, Petco-Brea Adoption Event
DESCRIPTION:Come visit One Love Animal Rescue at Petco in Brea Sunday\, February 23rd\, 2025. We will have over 20 kittens and adult cats ready to find their furever home. Come meet these amazing cats in person and see if one would fit with your family. \nReach out to us before hand if there is a certain cat/kitten you would like to meet from our website so we can try and bring them 🙂
URL:https://oneloveanimals.org/event/feb-23rd-petco-adoption-event/
LOCATION:Petco-Brea\, 2500 Imperial Hwy Ste 114\, Brea\, CA\, 92821
END:VEVENT
BEGIN:VEVENT
DTSTART;TZID=UTC:20250209T100000
DTEND;TZID=UTC:20250209T150000
DTSTAMP:20260421T131512
CREATED:20250204T120753Z
LAST-MODIFIED:20250204T120753Z
UID:16799-1739095200-1739113200@oneloveanimals.org
SUMMARY:Feb 9th\, Petco-Brea Adoption Event
DESCRIPTION:Come visit One Love Animal Rescue at Petco in Brea Sunday\, February 9th\, 2025. We will have over 20 kittens and adult cats ready to find their furever home. Come meet these amazing cats in person and see if one would fit with your family. \nReach out to us before hand if there is a certain cat/kitten you would like to meet from our website so we can try and bring them 🙂
URL:https://oneloveanimals.org/event/feb-9th-petco-adoption-event/
LOCATION:Petco-Brea\, 2500 Imperial Hwy Ste 114\, Brea\, CA\, 92821
END:VEVENT
BEGIN:VEVENT
DTSTART;TZID=UTC:20250126T100000
DTEND;TZID=UTC:20250126T170000
DTSTAMP:20260421T131512
CREATED:20250103T061538Z
LAST-MODIFIED:20250103T061645Z
UID:15947-1737885600-1737910800@oneloveanimals.org
SUMMARY:Jan 26th\, Petco-Brea Adoption Event
DESCRIPTION:Come visit One Love Animal Rescue at Petco in Brea Sunday\, January 26th\, 2025. We will have over 22 kittens and adult cats ready to find their furever home. Come meet these amazing cats in person and see if one would fit with your family.
URL:https://oneloveanimals.org/event/jan-26th-petco-adoption-event/
LOCATION:Petco-Brea\, 2500 Imperial Hwy Ste 114\, Brea\, CA\, 92821
END:VEVENT
BEGIN:VEVENT
DTSTART;TZID=UTC:20250112T100000
DTEND;TZID=UTC:20250112T170000
DTSTAMP:20260421T131512
CREATED:20250103T061451Z
LAST-MODIFIED:20250104T094839Z
UID:15945-1736676000-1736701200@oneloveanimals.org
SUMMARY:Jan 12th\, Petco-Brea Adoption Event
DESCRIPTION:Come visit One Love Animal Rescue at Petco in Brea Sunday\, January 12th\, 2025. We will have over 22 kittens and adult cats ready to find their furever home. Come meet these amazing cats in person and see if one would fit with your family.
URL:https://oneloveanimals.org/event/jan-15th-petco-adoption-event/
LOCATION:Petco-Brea\, 2500 Imperial Hwy Ste 114\, Brea\, CA\, 92821
END:VEVENT
BEGIN:VEVENT
DTSTART;TZID=UTC:20241215T100000
DTEND;TZID=UTC:20241215T170000
DTSTAMP:20260421T131512
CREATED:20241120T135457Z
LAST-MODIFIED:20241127T081459Z
UID:15508-1734256800-1734282000@oneloveanimals.org
SUMMARY:Dec 15th\, Petco-Brea Adoption Event
DESCRIPTION:Come visit One Love Animal Rescue at Petco in Brea this coming Sunday\, December 15th\, 2024. We will have over 20 kittens and adult cats ready to find their furever home. Come meet these amazing cats in person and see if one would fit with your family.
URL:https://oneloveanimals.org/event/dec-15th-petco-adoption-event/
LOCATION:Petco-Brea\, 2500 Imperial Hwy Ste 114\, Brea\, CA\, 92821
END:VEVENT
END:VCALENDAR